BEGIN:VCALENDAR
VERSION:2.0
PRODID:-//Cascinet - ECPv6.15.20//NONSGML v1.0//EN
CALSCALE:GREGORIAN
METHOD:PUBLISH
X-WR-CALNAME:Cascinet
X-ORIGINAL-URL:https://cascinet.it
X-WR-CALDESC:Eventi per Cascinet
REFRESH-INTERVAL;VALUE=DURATION:PT1H
X-Robots-Tag:noindex
X-PUBLISHED-TTL:PT1H
BEGIN:VTIMEZONE
TZID:Europe/Rome
BEGIN:DAYLIGHT
TZOFFSETFROM:+0100
TZOFFSETTO:+0200
TZNAME:CEST
DTSTART:20250330T010000
END:DAYLIGHT
BEGIN:STANDARD
TZOFFSETFROM:+0200
TZOFFSETTO:+0100
TZNAME:CET
DTSTART:20251026T010000
END:STANDARD
BEGIN:DAYLIGHT
TZOFFSETFROM:+0100
TZOFFSETTO:+0200
TZNAME:CEST
DTSTART:20260329T010000
END:DAYLIGHT
BEGIN:STANDARD
TZOFFSETFROM:+0200
TZOFFSETTO:+0100
TZNAME:CET
DTSTART:20261025T010000
END:STANDARD
BEGIN:DAYLIGHT
TZOFFSETFROM:+0100
TZOFFSETTO:+0200
TZNAME:CEST
DTSTART:20270328T010000
END:DAYLIGHT
BEGIN:STANDARD
TZOFFSETFROM:+0200
TZOFFSETTO:+0100
TZNAME:CET
DTSTART:20271031T010000
END:STANDARD
END:VTIMEZONE
BEGIN:VEVENT
DTSTART;TZID=Europe/Rome:20260422T180000
DTEND;TZID=Europe/Rome:20260422T180000
DTSTAMP:20260422T160736
CREATED:20260415T134751Z
LAST-MODIFIED:20260415T134754Z
UID:4029-1776880800-1776880800@cascinet.it
SUMMARY:Incontro di Condivisone del Gruppo di Lavoro sull'Accoglienza
DESCRIPTION:Incontro di Condivisone \nMercoledì 22 aprile\, dalle h 18:00\nIl Gruppo di Lavoro sull’Accoglienza in Cascina vi invita a partecipare ad un incontro di condivisione del nostro sentire\, delle nostre valutazioni\, dei nostri pensieri – quali che siano – in merito al passaggio o alla presenza in cascina di persone in difficoltà o fragili. \nVi aspettiamo e speriamo nella partecipazione di tante e tanti di noi! \nL’entrata è libera\, il tesseramento è consigliato!\nCasciNet FB / IG – info@cascinet.it
URL:https://cascinet.it/event/incontro-di-condivisone-del-gruppo-di-lavoro-sullaccoglienza/
LOCATION:CasciNet\, Via Cavriana 38\, Milano\, Italia
ATTACH;FMTTYPE=image/png:https://cascinet.it/wp-content/uploads/2026/04/COVER-SITO-65.png
END:VEVENT
END:VCALENDAR