BEGIN:VCALENDAR
VERSION:2.0
PRODID:-//Cascinet - ECPv6.15.20//NONSGML v1.0//EN
CALSCALE:GREGORIAN
METHOD:PUBLISH
X-WR-CALNAME:Cascinet
X-ORIGINAL-URL:https://cascinet.it
X-WR-CALDESC:Eventi per Cascinet
REFRESH-INTERVAL;VALUE=DURATION:PT1H
X-Robots-Tag:noindex
X-PUBLISHED-TTL:PT1H
BEGIN:VTIMEZONE
TZID:Europe/Rome
BEGIN:DAYLIGHT
TZOFFSETFROM:+0100
TZOFFSETTO:+0200
TZNAME:CEST
DTSTART:20230326T010000
END:DAYLIGHT
BEGIN:STANDARD
TZOFFSETFROM:+0200
TZOFFSETTO:+0100
TZNAME:CET
DTSTART:20231029T010000
END:STANDARD
BEGIN:DAYLIGHT
TZOFFSETFROM:+0100
TZOFFSETTO:+0200
TZNAME:CEST
DTSTART:20240331T010000
END:DAYLIGHT
BEGIN:STANDARD
TZOFFSETFROM:+0200
TZOFFSETTO:+0100
TZNAME:CET
DTSTART:20241027T010000
END:STANDARD
BEGIN:DAYLIGHT
TZOFFSETFROM:+0100
TZOFFSETTO:+0200
TZNAME:CEST
DTSTART:20250330T010000
END:DAYLIGHT
BEGIN:STANDARD
TZOFFSETFROM:+0200
TZOFFSETTO:+0100
TZNAME:CET
DTSTART:20251026T010000
END:STANDARD
END:VTIMEZONE
BEGIN:VEVENT
DTSTART;TZID=Europe/Rome:20240514T190000
DTEND;TZID=Europe/Rome:20240514T200000
DTSTAMP:20260423T021340
CREATED:20240514T155419Z
LAST-MODIFIED:20240514T161341Z
UID:2162-1715713200-1715716800@cascinet.it
SUMMARY:Mindfulness Psicosomatica
DESCRIPTION:Con Bianca
URL:https://cascinet.it/event/mindfulness-psicosomatica/
CATEGORIES:Benessere
END:VEVENT
BEGIN:VEVENT
DTSTART;TZID=Europe/Rome:20240513T190000
DTEND;TZID=Europe/Rome:20240513T200000
DTSTAMP:20260423T021340
CREATED:20240514T155101Z
LAST-MODIFIED:20240514T161037Z
UID:2159-1715626800-1715630400@cascinet.it
SUMMARY:Hatha Yoga
DESCRIPTION:Con Clelia
URL:https://cascinet.it/event/hatha-yoga/
LOCATION:CasciNet\, Via Cavriana 38\, Milano\, Italia
CATEGORIES:Benessere
END:VEVENT
BEGIN:VEVENT
DTSTART;TZID=Europe/Rome:20240513T180000
DTEND;TZID=Europe/Rome:20240513T190000
DTSTAMP:20260423T021340
CREATED:20240514T154839Z
LAST-MODIFIED:20240514T155248Z
UID:2155-1715623200-1715626800@cascinet.it
SUMMARY:Ginnastica Posturale
DESCRIPTION:Con Marta
URL:https://cascinet.it/event/ginnastica-posturale/
LOCATION:CasciNet\, Via Cavriana 38\, Milano\, Italia
CATEGORIES:Benessere
END:VEVENT
END:VCALENDAR