BEGIN:VCALENDAR
VERSION:2.0
PRODID:-//Cascinet - ECPv6.15.20//NONSGML v1.0//EN
CALSCALE:GREGORIAN
METHOD:PUBLISH
X-WR-CALNAME:Cascinet
X-ORIGINAL-URL:https://cascinet.it
X-WR-CALDESC:Eventi per Cascinet
REFRESH-INTERVAL;VALUE=DURATION:PT1H
X-Robots-Tag:noindex
X-PUBLISHED-TTL:PT1H
BEGIN:VTIMEZONE
TZID:Europe/Rome
BEGIN:DAYLIGHT
TZOFFSETFROM:+0100
TZOFFSETTO:+0200
TZNAME:CEST
DTSTART:20250330T010000
END:DAYLIGHT
BEGIN:STANDARD
TZOFFSETFROM:+0200
TZOFFSETTO:+0100
TZNAME:CET
DTSTART:20251026T010000
END:STANDARD
BEGIN:DAYLIGHT
TZOFFSETFROM:+0100
TZOFFSETTO:+0200
TZNAME:CEST
DTSTART:20260329T010000
END:DAYLIGHT
BEGIN:STANDARD
TZOFFSETFROM:+0200
TZOFFSETTO:+0100
TZNAME:CET
DTSTART:20261025T010000
END:STANDARD
BEGIN:DAYLIGHT
TZOFFSETFROM:+0100
TZOFFSETTO:+0200
TZNAME:CEST
DTSTART:20270328T010000
END:DAYLIGHT
BEGIN:STANDARD
TZOFFSETFROM:+0200
TZOFFSETTO:+0100
TZNAME:CET
DTSTART:20271031T010000
END:STANDARD
END:VTIMEZONE
BEGIN:VEVENT
DTSTART;TZID=Europe/Rome:20260508T180000
DTEND;TZID=Europe/Rome:20260508T180000
DTSTAMP:20260423T003329
CREATED:20260422T160042Z
LAST-MODIFIED:20260422T160045Z
UID:4041-1778263200-1778263200@cascinet.it
SUMMARY:CENA SOCIALE per CUBA
DESCRIPTION:Venerdì 08 maggio\, dalle h 18:00\nAbbiamo deciso di dedicare la giornata di venerdì 08 maggio a una raccolta fondi per Cuba: un’isola al buio\, senza carburante\, cibo e medicinali. Cuba è in emergenza e non possiamo restare indifferenti.\nI fondi raccolti serviranno per:\n– Sostenere il progetto “Cento Pasti a Santiago de Cuba” di Luisa Morandini\, nato nel 2024 per garantire ogni giorno 100 pasti\n– Acquistare medicinali e vitamine\n– Supportare la nascita della nuova APS ENLACE – Espacio de Nuevos Lazos Artísticos y Cultura en Europa che sostiene la raccolta fondi per il progetto “Cento pasti a Santiago de Cuba” e l’acquisto di medicine e vitamine per la popolazione. Il progetto verrà presentata durante l’evento. \nPROGRAMMA:\nDalle h 18:00 – apertura bar associativo; \nDalle h 17:30 – attività per i più piccoli Laboratorio creativo di pittura con colori naturali: i bambini creeranno i colori da frutta\, verdura e spezie… e poi via libera alla fantasia tra forme\, colori e tanta creatività sostenibile! A cura di @asilonelboscomilano; \nDalle h 19:00 – Talk di aggiornamento sulla situazione attuale cubana; \nDalle h 20:00 – cena cubana con le materie prime di @recup_org; \nDalle h 22:00 – Live band solidale italo-cubana; \nTutta la sera: Mercatino solidale! \nL’entrata è libera\, il tesseramento è consigliato!\nCasciNet FB / IG – info@cascinet.it
URL:https://cascinet.it/event/cena-sociale-per-cuba/
LOCATION:CasciNet\, Via Cavriana 38\, Milano\, Italia
ATTACH;FMTTYPE=image/png:https://cascinet.it/wp-content/uploads/2026/04/COVER-SITO-68.png
END:VEVENT
BEGIN:VEVENT
DTSTART;TZID=Europe/Rome:20260509T120000
DTEND;TZID=Europe/Rome:20260510T213000
DTSTAMP:20260423T003329
CREATED:20260422T160142Z
LAST-MODIFIED:20260422T160142Z
UID:4045-1778328000-1778448600@cascinet.it
SUMMARY:I weekend all’AgriRistoro
DESCRIPTION:Buon cibo\, buona compagnia e tanta convivialità!\nL’AgriRistoro è il luogo dove esprimiamo i nostri valori legati all’agricoltura biologica e di prossimità. \nAll’interno degli saloni di Cascina Sant’Ambrogio è attivo un agriturismo con cucina dove è possibile pranzare e cenare con i prodotti del nostro orto e selezionati da fornitori di ficucia per qualità\, etica di produzione ed attenzione alle persone e all’ambiente. \nÈ sempre meglio prenotare! \nORARI DI PRIMAVERA:\nSabato e domenica\, dalle h 12 alle 16. Su prenotazione siamo aperti anche la sera!\nL’AgriRistoro di CasciNet è aperto anche la domenica dalle h 18:00 alle 22:00 per l’aperitivo! \nFESTE E GRUPPI:\nPer feste private con servizio di ristorazione durante la settimana potete prenotare per gruppi con almeno 14 giorni di anticipo. \n✉️ agriristoro@cascinet.it\n☎️ +39 389 189 70 59
URL:https://cascinet.it/event/i-weekend-allagriristoro-40/
LOCATION:CasciNet\, Via Cavriana 38\, Milano\, Italia
CATEGORIES:Agriristoro
ATTACH;FMTTYPE=image/png:https://cascinet.it/wp-content/uploads/2025/01/Progetto-senza-titolo-1.png
END:VEVENT
BEGIN:VEVENT
DTSTART;TZID=Europe/Rome:20260516T120000
DTEND;TZID=Europe/Rome:20260517T213000
DTSTAMP:20260423T003329
CREATED:20260422T160150Z
LAST-MODIFIED:20260422T160150Z
UID:4044-1778932800-1779053400@cascinet.it
SUMMARY:I weekend all’AgriRistoro
DESCRIPTION:Buon cibo\, buona compagnia e tanta convivialità!\nL’AgriRistoro è il luogo dove esprimiamo i nostri valori legati all’agricoltura biologica e di prossimità. \nAll’interno degli saloni di Cascina Sant’Ambrogio è attivo un agriturismo con cucina dove è possibile pranzare e cenare con i prodotti del nostro orto e selezionati da fornitori di ficucia per qualità\, etica di produzione ed attenzione alle persone e all’ambiente. \nÈ sempre meglio prenotare! \nORARI DI PRIMAVERA:\nSabato e domenica\, dalle h 12 alle 16. Su prenotazione siamo aperti anche la sera!\nL’AgriRistoro di CasciNet è aperto anche la domenica dalle h 18:00 alle 22:00 per l’aperitivo! \nFESTE E GRUPPI:\nPer feste private con servizio di ristorazione durante la settimana potete prenotare per gruppi con almeno 14 giorni di anticipo. \n✉️ agriristoro@cascinet.it\n☎️ +39 389 189 70 59
URL:https://cascinet.it/event/i-weekend-allagriristoro-41/
LOCATION:CasciNet\, Via Cavriana 38\, Milano\, Italia
CATEGORIES:Agriristoro
ATTACH;FMTTYPE=image/png:https://cascinet.it/wp-content/uploads/2025/01/Progetto-senza-titolo-1.png
END:VEVENT
END:VCALENDAR